BEGIN:VCALENDAR
VERSION:2.0
PRODID:-//Volt Europa//Events//EN
CALSCALE:GREGORIAN
METHOD:PUBLISH
BEGIN:VEVENT
UID:volt-connect-1711393200@voltbelgium.org
DTSTAMP:20260423T134927Z
DTSTART;TZID=Europe/Amsterdam:20240325T200000
DTEND;TZID=Europe/Amsterdam:20240325T204500
SUMMARY:Volt Connect (NL)
DESCRIPTION:Volt Connect is the time for our members to get in touch with o
 ur campaign leaders and candidates. Join us to learn more about Volt and ho
 w you can help! This Volt Connect will be in Dutch
LOCATION:Online
URL:https://voltbelgium.org/events/volt-connect
END:VEVENT
END:VCALENDAR
