BEGIN:VCALENDAR
VERSION:2.0
PRODID:-//Volt Europa//Events//EN
CALSCALE:GREGORIAN
METHOD:PUBLISH
BEGIN:VEVENT
UID:volt-leuven-meet-and-greet-1720632600@voltbelgium.org
DTSTAMP:20260423T020129Z
DTSTART;TZID=Europe/Amsterdam:20240710T193000
DTEND;TZID=Europe/Amsterdam:20240710T223000
SUMMARY:Volt Leuven meet and greet
DESCRIPTION:Woensdagavond 07-10-2024 om 19:30 komt het team van Volt Leuven
  samen om de aankomende verkiezingen te bespreken. Wil jij daar ook bij zij
 n? Heb je vragen voor Volt Leuven? Heb jij  het  super-plan om van Leuven e
 en nog betere gemeente te maken? Gewoon zin in een drankje en een praatje? 
 Kom gerust langs en maak kennis met de kandidaten voor de lokale verkiezing
 en.
LOCATION:Cafe Tempo - Baron August de Becker Remyplein 52 Leuven
URL:https://voltbelgie.org/agenda/volt-leuven-meet-and-greet
END:VEVENT
END:VCALENDAR
