BEGIN:VCALENDAR
VERSION:2.0
PRODID:-//Volt Europa//Events//EN
CALSCALE:GREGORIAN
METHOD:PUBLISH
BEGIN:VEVENT
UID:volt-meet-greet-mechelen-1776274200@voltbelgium.org
DTSTAMP:20260425T160022Z
DTSTART;TZID=Europe/Amsterdam:20260415T193000
DTEND;TZID=Europe/Amsterdam:20260415T220000
SUMMARY:Volt Meet & Greet in Mechelen
DESCRIPTION:Het is tijd om de koers te verleggen. Echte verandering stopt n
 iet bij de gemeentegrens\; de uitdagingen van vandaag vragen om een integra
 le aanpak op elk niveau. Van concrete lokale oplossingen tot onze bredere v
 isie op nationaal en Europees beleid: bij Volt trekken we één lijn. We no
 digen je uit voor een Meet & Greet waar we de diepte opzoeken. We bespreken
  hoe we de komende jaren optimaal gaan benutten om op alle bestuursniveaus 
 het tij te keren. Jouw inzichten zijn daarbij onmisbaar. Bouw mee
LOCATION:Bar Popular (buiten op terras)\, Mechelen vismarkt
URL:https://voltbelgie.org/agenda/volt-meet-greet-mechelen
END:VEVENT
END:VCALENDAR
