BEGIN:VCALENDAR
VERSION:2.0
PRODID:-//Volt Europa//Events//EN
CALSCALE:GREGORIAN
METHOD:PUBLISH
BEGIN:VEVENT
UID:wie-let-er-op-brussel-nl-1715103000@voltbelgium.org
DTSTAMP:20260423T141343Z
DTSTART;TZID=Europe/Amsterdam:20240507T193000
DTEND;TZID=Europe/Amsterdam:20240507T210000
SUMMARY:Wie let er op Brussel?
DESCRIPTION:Het Europees Parlement moet de macht controleren\, maar ligt de
  afgelopen jaren regelmatig onder vuur vanwege schandalen. Is er te weinig 
 toezicht op Europese politici en ambtenaren? We bespreken dit naar aanleidi
 ng van Wie heeft aandacht voor Brussel?\, het nieuwe boek van de Brusselse 
 redactie van het journalistiekplatform Follow The Money. De discussie zal r
 ekenen op de deelname van  Simon Van Dorpe  (onderzoeksjournalist FTM\, Bur
 eau Brussel)\,  Bram Vranken  (onderzoeker en campagnevoerder bij 
LOCATION:deBuren\, Rue Leopold 6\, Brussels
URL:https://voltbelgie.org/agenda/wie-let-er-op-brussel-nl
END:VEVENT
END:VCALENDAR
