BEGIN:VCALENDAR
VERSION:2.0
PRODID:-//Volt Europa//Events//EN
CALSCALE:GREGORIAN
METHOD:PUBLISH
BEGIN:VEVENT
UID:bezoek-aan-de-antwerpse-kerstmarkt-1765911600@voltbelgium.org
DTSTAMP:20260423T094920Z
DTSTART;TZID=Europe/Amsterdam:20251216T200000
DTEND;TZID=Europe/Amsterdam:20251216T230000
SUMMARY:Bezoek aan de Antwerpse Kerstmarkt
DESCRIPTION:Tijd voor sfeer en gezelligheid! We trekken samen naar de kerst
 markt van Stad Antwerpen voor een warme babbel\, glühwein en een fijne afs
 luiter van het jaar. 🤝 Of je nu al langer actief bent bij Volt\, of gewo
 on eens wilt langskomen: je bent meer dan welkom!
LOCATION:TBD
URL:https://voltbelgie.org/antwerpen/agenda/bezoek-aan-de-antwerpse-kerstma
 rkt
END:VEVENT
END:VCALENDAR
