BEGIN:VCALENDAR
VERSION:2.0
PRODID:-//Volt Europa//Events//EN
CALSCALE:GREGORIAN
METHOD:PUBLISH
BEGIN:VEVENT
UID:meet-greet-antwerpen-250129-1738175400@voltbelgium.org
DTSTAMP:20260423T180624Z
DTSTART;TZID=Europe/Amsterdam:20250129T193000
DTEND;TZID=Europe/Amsterdam:20250129T220000
SUMMARY:Meet & greet Antwerpen
DESCRIPTION:Het is tijd om elkaar te zien in Cafe Den Tros in 't Eilandje. 
 Wij komen samen om iets te drinken met een gezellige praatje over politiek 
 op het lokaal niveau. Wij hebben 5 jaar om het tij te keren en wij zullen d
 eze tijd zeker goed gebruiken 💪 Iedereen is welkom!
LOCATION:Den Tros Café\, Napoleonkaai 55\, 2000 Antwerpen
URL:https://voltbelgie.org/antwerpen/agenda/meet-greet-antwerpen-250129
END:VEVENT
END:VCALENDAR
