BEGIN:VCALENDAR
VERSION:2.0
PRODID:-//Volt Europa//Events//EN
CALSCALE:GREGORIAN
METHOD:PUBLISH
BEGIN:VEVENT
UID:meet-greet-antwerpen-250212-1739385000@voltbelgium.org
DTSTAMP:20260423T141304Z
DTSTART;TZID=Europe/Amsterdam:20250212T193000
DTEND;TZID=Europe/Amsterdam:20250212T220000
SUMMARY:Meet & greet Antwerpen
DESCRIPTION:Het is tijd om elkaar te zien in Entrepot du Congo. Wij komen s
 amen om gezellig iets te drinken en over politiek op het lokaal niveau te b
 espreken. Wij hebben 5 jaar om het tij te keren en wij zullen deze tijd zek
 er goed gebruiken 💪 Iedereen is welkom!
LOCATION:Entrepot du Congo\, Sint-Jansvliet 2\, 2000 Antwerpen
URL:https://voltbelgie.org/antwerpen/agenda/meet-greet-antwerpen-250212
END:VEVENT
END:VCALENDAR
