BEGIN:VCALENDAR
VERSION:2.0
PRODID:-//Volt Europa//Events//EN
CALSCALE:GREGORIAN
METHOD:PUBLISH
BEGIN:VEVENT
UID:themadag-volt-toekomst-van-ons-onderwijs-stedelijke-leefkwaliteit-17650
 26000@voltbelgium.org
DTSTAMP:20260423T105929Z
DTSTART;TZID=Europe/Amsterdam:20251206T140000
DTEND;TZID=Europe/Amsterdam:20251206T180000
SUMMARY:Themadag Volt: toekomst van ons onderwijs & stedelijke leefkwalitei
 t
DESCRIPTION:Kom naar het misschien wel grootste Nederlandstalige Volt-evene
 ment in België van dit jaar! RESERVEER JE GRATIS TICKET HIER:  https://www
 .eventbrite.com/e/themadag-volt-in-mechelen-de-toekomst-van-ons-onderwijs-1
 5-min-steden-tickets-1845766129179?aff=oddtdtcreator   Op zaterdag 6 decemb
 er organiseert Volt in Mechelen een inspirerende themadag vol lezingen\, pa
 nelgesprekken en interactieve discussies. Een lijst van sprekers en de same
 nstelling van de panels wordt later bekendgemaakt\, maar schrijf 
LOCATION:Reiscafé via via Mechelen (aparte zaal zolder)\, Zandpoortvest 50
 \, 2800 Mechelen
URL:https://voltbelgie.org/agenda/themadag-volt-toekomst-van-ons-onderwijs-
 stedelijke-leefkwaliteit
END:VEVENT
END:VCALENDAR
