BEGIN:VCALENDAR
VERSION:2.0
PRODID:-//Volt Europa//Events//EN
CALSCALE:GREGORIAN
METHOD:PUBLISH
BEGIN:VEVENT
UID:apero-debate-on-the-rule-of-law-with-sophie-in-t-veld-1756917000@voltbe
 lgium.org
DTSTAMP:20260423T110111Z
DTSTART;TZID=Europe/Amsterdam:20250903T183000
DTEND;TZID=Europe/Amsterdam:20250903T210000
SUMMARY:Apéro-debat le rapport du "Rule of Law" avec Sophie in 't Veld
DESCRIPTION:🇪🇺⚖️🇧🇪 Que révèle le rapport sur l’État de
  droit de l’UE à propos de la Belgique… Cet événement se déroulera 
 principalement en Anglais\, mais l'utilisation du Français ou du Néerland
 ais est naturellement la bien venue lors de vôtre intervention Notre proch
 ain Apéro-débat explorera l’État de droit en Europe\, en prenant la Be
 lgique comme étude de cas. Alors que les inquiétudes concernant la Pologn
 e ou la Hongrie font souvent la une\, les problèmes propres à la Belgique
  sont rarement évoqués. Le rapp
LOCATION:Volt Hub\, Galerie du Cinquantenaire\, Av. de Tervuren 32-36\, 104
 0 Etterbeek
URL:https://voltbelgique.org/bruxelles/evenements/apero-debate-on-the-rule-
 of-law-with-sophie-in-t-veld
END:VEVENT
END:VCALENDAR
