BEGIN:VCALENDAR
VERSION:2.0
PRODID:-//Volt Europa//Events//EN
CALSCALE:GREGORIAN
METHOD:PUBLISH
BEGIN:VEVENT
UID:avondmarkt-tervuren-1757170800@voltbelgium.org
DTSTAMP:20260425T114344Z
DTSTART;TZID=Europe/Amsterdam:20250906T170000
DTEND;TZID=Europe/Amsterdam:20250906T220000
SUMMARY:Avondmarkt - Tervuren
DESCRIPTION:De avondmarkt in Tervuren is eindelijk terug. Geniet nog net va
 n een zomerse sfeer\, fijne ontmoetingen en veel gezelligheid! Er zijn tal 
 van kraampjes\, drankjes en muziek\, maar natuurlijk is  ook Volt van de pa
 rtij . Op ons standje komt je alles te weten over onze verwezenlijkingen in
  de gemeenteraad alsook onze toekomstige plannen. Bovendien kan je ook de  
 gemeenteraadsleden van Tervuren Unie + Volt ontmoeten  voor een gezellige b
 abbel: Tracey D'Afters Serge Liesenborghs Olivier Thomas Geoffroy
LOCATION:Markt 13\, 3080 Tervuren
URL:https://voltbelgie.org/agenda/avondmarkt-tervuren
END:VEVENT
END:VCALENDAR
