BEGIN:VCALENDAR
VERSION:2.0
PRODID:-//Volt Europa//Events//EN
CALSCALE:GREGORIAN
METHOD:PUBLISH
BEGIN:VEVENT
UID:discussie-gemeentekandidaten-sint-gillis-1060-1728664200@voltbelgium.or
 g
DTSTAMP:20260423T105626Z
DTSTART;TZID=Europe/Amsterdam:20241011T183000
DTEND;TZID=Europe/Amsterdam:20241011T200000
SUMMARY:Discussie gemeentekandidaten (Sint-Gillis 1060)
DESCRIPTION:De burgermaatschappij/ex-pat gemeenschap “Restless Brussels
  nodigt je uit voor een EN-talig gesprek/debat met Sint-Gillis kandidaten 
 van DéFI-Volt\, PS-Vooruit\, Ecolo-Groen en PTB. Kom meer te weten over de
  manifesten en wees klaar om vragen te stellen. Er zijn beperkte plaatsen\,
  dus schrijf je snel in (zie onderstaande link) Datum: Vrijdag 11 oktober L
 ocatie: Atelier Emile\, Rue Emile Feron 106\, Sint-Gillis Tijd: Deuren 18:3
 0 / Discussie 19:00 Versnaperingen: Zelf meenemen.”  Inschrijven: https:
LOCATION:Atelier Emile\, Emile Feronstraat 106\, Sint-Gillis
URL:https://voltbelgie.org/brussel/agenda/discussie-gemeentekandidaten-sint
 -gillis-1060
END:VEVENT
END:VCALENDAR
