BEGIN:VCALENDAR
VERSION:2.0
PRODID:-//Volt Europa//Events//EN
CALSCALE:GREGORIAN
METHOD:PUBLISH
BEGIN:VEVENT
UID:meet-greet-brussels-1-1-1-1-1-1-1-1730223000@voltbelgium.org
DTSTAMP:20260423T105601Z
DTSTART;TZID=Europe/Amsterdam:20241029T183000
DTEND;TZID=Europe/Amsterdam:20241029T220000
SUMMARY:Meet & Greet Brussels
DESCRIPTION:It is time for another Meet & Greet in the heart of Brussels! U
 pstairs at Café Merlo in the cozy Dansaert area\, you will find a warm hot
  spot surrounded by the Winter Festivities. Share a drink and talk politics
  with engaged Volters and pitch your newest democratic innovative ideas to 
 our candidates. Bring your friends\, colleagues and family. Everyone is wel
 come! Upcoming dates: Tuesday\, 10/9 Thursday\, 19/9 Tuesday\, 24/9 Thursda
 y\, 3/10 Tuesday\, 8/10 Thursday\, 17/10 Tuesday\, 22/10 Tuesday\, 29/10
LOCATION:Café Merlo\, Quai aux Briques 80\, 1000 Bruxelles
URL:https://voltbelgium.org/events/meet-greet-brussels-1-1-1-1-1-1-1
END:VEVENT
END:VCALENDAR
