BEGIN:VCALENDAR
VERSION:2.0
PRODID:-//Volt Europa//Events//EN
CALSCALE:GREGORIAN
METHOD:PUBLISH
BEGIN:VEVENT
UID:meet-greet-met-alast-mojtahed-najafi-1751302800@voltbelgium.org
DTSTAMP:20260423T105726Z
DTSTART;TZID=Europe/Amsterdam:20250630T190000
DTEND;TZID=Europe/Amsterdam:20250630T220000
SUMMARY:Meet & Greet met Alast Mojtahed Najafi
DESCRIPTION:Kom naar onze volgende Meet & Greet met speciale gast Alast Moj
 tahed Najafi. Alast woont tussen Brussel en Berlijn en is onlangs verkozen 
 tot bestuurslid van Volt Duitsland. U bent van harte uitgenodigd om deel te
  nemen aan een informeel gesprek over de uitdagingen van onze twee chapters
  met betrekking tot de groei en de voorbereiding op de verkiezingen van 202
 9.
LOCATION:Café Merlo\, Quai aux briques 80\, Bruxelles 1000
URL:https://voltbelgie.org/agenda/meet-greet-met-alast-mojtahed-najafi
END:VEVENT
END:VCALENDAR
