BEGIN:VCALENDAR
VERSION:2.0
PRODID:-//Volt Europa//Events//EN
CALSCALE:GREGORIAN
METHOD:PUBLISH
BEGIN:VEVENT
UID:nationale-nieuwjaarsreceptie-2026-van-volt-belgie-1768586400@voltbelgiu
 m.org
DTSTAMP:20260423T105907Z
DTSTART;TZID=Europe/Amsterdam:20260116T190000
DTEND;TZID=Europe/Amsterdam:20260116T223000
SUMMARY:Nationale Nieuwjaarsreceptie 2026 van Volt België
DESCRIPTION:✨ Na de zeer succesvolle nieuwjaarsreceptie van vorig jaar in
  Gent\, nodigt het bestuur van Volt Belgium je met veel plezier uit voor de
   Nationale Nieuwjaarsreceptie 2026 van Volt België  — dit keer in  Mech
 elen \, op slechts een korte wandeling van het station! 🚆 Kom bij ons la
 ngs op  vrijdag 16 januari  voor een inspirerende avond vol kansen om  in c
 ontact te komen met leden uit het hele land \, ideeën uit te wisselen\, on
 ze successen te vieren en samen 2026 af te trappen met hernieuwde energie e
LOCATION:Reiscafé "ViaVia" in Mechelen (eigen-zaal)\, Zandpoortvest 50\, 2
 800 Mechelen
URL:https://voltbelgie.org/agenda/nationale-nieuwjaarsreceptie-2026-van-vol
 t-belgie
END:VEVENT
END:VCALENDAR
