BEGIN:VCALENDAR
VERSION:2.0
PRODID:-//Volt Europa//Events//EN
CALSCALE:GREGORIAN
METHOD:PUBLISH
BEGIN:VEVENT
UID:volt-hub-open-25-01-1737795600@voltbelgium.org
DTSTAMP:20260423T180209Z
DTSTART;TZID=Europe/Amsterdam:20250125T100000
DTEND;TZID=Europe/Amsterdam:20250125T140000
SUMMARY:Volt Hub open
DESCRIPTION:In januari lanceert het Brusselse team een ​​nieuwe activit
 eit: elke zaterdag in januari is de Hub open. Iedereen is uitgenodigd en aa
 ngemoedigd om langs te komen!  Een lid van het Brusselse team zal aanwezig
  zijn en zal graag met u praten over beleid\, strategie\, komende evenement
 en\, hoe u kunt deelnemen aan de verschillende activiteiten... De Hub zal o
 ok openstaan ​​voor het grote publiek\, dus voel u vrij om u aan te slu
 iten en hen te verwelkomen.
LOCATION:Volt Hub\, Galerie du Cinquantenaire\, Av. de Tervuren 32-36\, 104
 0 Etterbeek
URL:https://voltbelgie.org/brussel/agenda/volt-hub-open-25-01
END:VEVENT
END:VCALENDAR
