BEGIN:VCALENDAR
VERSION:2.0
PRODID:-//Volt Europa//Events//EN
CALSCALE:GREGORIAN
METHOD:PUBLISH
BEGIN:VEVENT
UID:drink-talk-integracion-en-europa-y-tervuren-1727976600@voltbelgium.org
DTSTAMP:20260423T121704Z
DTSTART;TZID=Europe/Amsterdam:20241003T193000
DTEND;TZID=Europe/Amsterdam:20241003T230000
SUMMARY:Drink/Talk: Integración en Europa y Tervuren...
DESCRIPTION:Organiza: Tervuren Unie y Volt Tervuren. Conferencia/panel: La 
 eurodiputada Anna Strolenberg también pronunciará un breve discurso de ap
 ertura. Antes de ser elegida diputada al Parlamento Europeo en julio de 202
 4\, Anna también trabajó para la Red Holandesa de Refugiados. Panel: Dr. 
 Mamy Rafamantanana (Tervuren) Panel: Claudia Zapata (Tervuren) Movilidad gl
 obal/expatriados Mesa redonda: Tracey D'Afters (Tervuren) Estratega de comu
 nicación Moderador: Dafydd ab Iago (Tervuren)\, periodista Tervuren 
LOCATION:Zaal De Berk\, Zevenster\, Tervuren
URL:https://voltbelgie.org/es/tervuren/eventos/drink-talk-integracion-en-eu
 ropa-y-tervuren
END:VEVENT
END:VCALENDAR
