BEGIN:VCALENDAR
VERSION:2.0
PRODID:-//Volt Europa//Events//EN
CALSCALE:GREGORIAN
METHOD:PUBLISH
BEGIN:VEVENT
UID:ukraine-charity-concert-1740078000@voltbelgium.org
DTSTAMP:20260423T180809Z
DTSTART;TZID=Europe/Amsterdam:20250220T200000
DTEND;TZID=Europe/Amsterdam:20250220T223000
SUMMARY:Ukraine Charity Concert
DESCRIPTION:Let’s show our solidarity with Ukraine! A charity concert wil
 l be held in the magnificent church at Sablon on Thursday 20 February at 8p
 m. All profits will go to a mobile hospital in Ukraine. Information by BRIM
 A The Brussels International Academy of Music (BR.I.M.A.) with the support 
 of the Embassy of Ukraine in the Kingdom of Belgium\, Mission of Ukraine to
  the European Union invite you to a charity concert dedicated to the commem
 oration of the victims of the war in Ukraine on the occasion of t
LOCATION:Rue des Sablons\, 1000 Brussels
URL:https://voltbelgium.org/events/ukraine-charity-concert
END:VEVENT
END:VCALENDAR
