BEGIN:VCALENDAR
VERSION:2.0
PRODID:-//Volt Europa//Events//EN
CALSCALE:GREGORIAN
METHOD:PUBLISH
BEGIN:VEVENT
UID:drink-talk-integrazione-in-europa-e-tervuren-1727976600@voltbelgium.org
DTSTAMP:20260423T180930Z
DTSTART;TZID=Europe/Amsterdam:20241003T193000
DTEND;TZID=Europe/Amsterdam:20241003T230000
SUMMARY:Drink/Talk: Integrazione in Europa e Tervuren...
DESCRIPTION:Organizzatori: Tervuren Union e Volt Tervuren. Keynote/Panel: L
 'eurodeputata Anna Strolenberg terrà anche un breve discorso programmatico
 . Prima di essere eletta al Parlamento europeo nel luglio 2024\, Anna ha la
 vorato per la Rete olandese per i rifugiati. Panel: Dr. Mamy Rafamantanana 
 (Tervuren) Panel: Claudia Zapata (Tervuren) Mobilità globale/expat Gruppo 
 di discussione: Tracey D'Afters (Tervuren) Stratega della comunicazione Mod
 eratore: Dafydd ab Iago (Tervuren)\, giornalista Tervuren è divent
LOCATION:Zaal De Berk\, Zevenster\, Tervuren
URL:https://voltbelgie.org/it/tervuren/eventi/drink-talk-integrazione-in-eu
 ropa-e-tervuren
END:VEVENT
END:VCALENDAR
