BEGIN:VCALENDAR
VERSION:2.0
PRODID:-//Volt Europa//Events//EN
CALSCALE:GREGORIAN
METHOD:PUBLISH
BEGIN:VEVENT
UID:benieuwd-naar-volt-en-wat-we-in-belgie-doen-1759339800@voltbelgium.org
DTSTAMP:20260425T113437Z
DTSTART;TZID=Europe/Amsterdam:20251001T193000
DTEND;TZID=Europe/Amsterdam:20251001T220000
SUMMARY:Benieuwd naar Volt en wat we in Leuven doen?
DESCRIPTION:Volt Leuven nodigt je van harte uit voor een  Meet & Greet  op 
  woensdag 1 oktober 2025 ! Kom langs voor een gezellige babbel over politie
 k\, frisse ideeën en onze plannen voor de toekomst. We kijken ernaar uit o
 m zowel vertrouwde als nieuwe gezichten te verwelkomen.
LOCATION:Cafe Tempo\, Baron August de Becker Remyplein 52\, 3010 Leuven
URL:https://voltbelgie.org/leuven/agenda/benieuwd-naar-volt-en-wat-we-in-be
 lgie-doen
END:VEVENT
END:VCALENDAR
