BEGIN:VCALENDAR
VERSION:2.0
PRODID:-//Volt Europa//Events//EN
CALSCALE:GREGORIAN
METHOD:PUBLISH
BEGIN:VEVENT
UID:convening-notice-for-volt-europas-extraordinary-general-assembly-volt-e
 uropa-1769432400@voltbelgium.org
DTSTAMP:20260424T214006Z
DTSTART;TZID=Europe/Amsterdam:20260126T140000
DTEND;TZID=Europe/Amsterdam:20260126T150000
SUMMARY:Volt Europa Extraordinary General Assembly
DESCRIPTION:Volt Europa roept een online Algemene Vergadering bijeen om te 
 stemmen over voorgestelde wijzigingen van de statuten en het huishoudelijk 
 reglement. Alle leden zijn uitgenodigd om deel te nemen op 26 januari 2026 
 om 14:00 CET\, waarbij de resultaten op 30 januari 2026 worden bekendgemaak
 t na verificatie van de stemmen. De vergadering vindt online plaats via het
  Livestorm-platform\, met elektronisch stemmen via Tusker. Leden kunnen vra
 gen indienen via een Q&A-formulier. Leden worden vriendelijk ver
LOCATION:online
URL:https://voltbelgie.org/leuven/agenda/convening-notice-for-volt-europas-
 extraordinary-general-assembly-volt-europa
END:VEVENT
END:VCALENDAR
