BEGIN:VCALENDAR
VERSION:2.0
PRODID:-//Volt Europa//Events//EN
CALSCALE:GREGORIAN
METHOD:PUBLISH
BEGIN:VEVENT
UID:deadline-voor-registratie-lokale-verkiezingen-niet-belgische-inwoners-l
 euven-1722405600@voltbelgium.org
DTSTAMP:20260423T181458Z
DTSTART;TZID=Europe/Amsterdam:20240731T080000
DTEND;TZID=Europe/Amsterdam:20240731T230000
SUMMARY:Deadline voor registratie lokale verkiezingen Niet-Belgische inwone
 rs Leuven
DESCRIPTION:Inwoner van Leuven met een niet-Belgische nationaliteit? Dit is
  de laatste dag om je op te geven als kiezer voor lokale verkiezingen. Laat
  deze kans niet liggen.
LOCATION:Leuven
URL:https://voltbelgie.org/leuven/agenda/deadline-voor-registratie-lokale-v
 erkiezingen-niet-belgische-inwoners-leuven
END:VEVENT
END:VCALENDAR
