BEGIN:VCALENDAR
VERSION:2.0
PRODID:-//Volt Europa//Events//EN
CALSCALE:GREGORIAN
METHOD:PUBLISH
BEGIN:VEVENT
UID:discussie-avond-hoe-vrouwen-de-politiek-veranderen-1741806000@voltbelgi
 um.org
DTSTAMP:20260423T181117Z
DTSTART;TZID=Europe/Amsterdam:20250312T200000
DTEND;TZID=Europe/Amsterdam:20250312T220000
SUMMARY:Discussie-avond: Hoe Vrouwen de Politiek Veranderen
DESCRIPTION:Discussie-avond - "Hoe vrouwen politiek veranderen" Op  12 maar
 t  van  20:00 tot 22:00  organiseren wij een debatavond over de rol van vro
 uwen in de politiek. Kom luisteren naar inspirerende sprekers die hun ervar
 ingen delen over het verschil dat vrouwen maken in het politieke landschap.
  Sprekers : Tracey D'Afters  (Volt\, gemeenteraadslid Tervuren) An van Goey
   (Volt\, voormalig Co-Secretaris General bij Volt België) Lalynn Wadera  
 (Vooruit\, Schepen in Leuven) Eva Plateau  (Groen\, Vlaams parlemen
LOCATION:Hostel de Blauwput\, Grote zaal (Martelarenlaan 11A\, 3010 Kessel 
 Lo)
URL:https://voltbelgie.org/leuven/agenda/discussie-avond-hoe-vrouwen-de-pol
 itiek-veranderen
END:VEVENT
END:VCALENDAR
