BEGIN:VCALENDAR
VERSION:2.0
PRODID:-//Volt Europa//Events//EN
CALSCALE:GREGORIAN
METHOD:PUBLISH
BEGIN:VEVENT
UID:meet-and-greet-2024-09-13-1726248600@voltbelgium.org
DTSTAMP:20260423T141304Z
DTSTART;TZID=Europe/Amsterdam:20240913T193000
DTEND;TZID=Europe/Amsterdam:20240913T220000
SUMMARY:Meet and Greet Volt Leuven
DESCRIPTION:Friday the 13th: Let's make it a lucky day!  We are in the midd
 le of the election period\, so there is plenty to discuss. Come by and join
  the conversation! Do you want to help? This is the place and time to meet 
 our team.
LOCATION:Cafe Tempo - Baron August de Becker Remyplein 52 Leuven
URL:https://voltbelgium.org/leuven/events/meet-and-greet-2024-09-13
END:VEVENT
END:VCALENDAR
