BEGIN:VCALENDAR
VERSION:2.0
PRODID:-//Volt Europa//Events//EN
CALSCALE:GREGORIAN
METHOD:PUBLISH
BEGIN:VEVENT
UID:meet-greet-na-de-zomerpauze-1756316700@voltbelgium.org
DTSTAMP:20260425T114041Z
DTSTART;TZID=Europe/Amsterdam:20250827T194500
DTEND;TZID=Europe/Amsterdam:20250827T213000
SUMMARY:Meet & Greet na de zomerpauze
DESCRIPTION:Na een deugddoende zomerpauze nodigen we je graag uit voor onze
  Volt Leuven meeting op woensdag 27 augustus! Kom langs voor een gezellige 
 babbel over politiek\, nieuwe ideeën en toekomstplannen. We kijken ernaar 
 uit om vertrouwde én nieuwe gezichten te zien. Iedereen is welkom
LOCATION:Cafe Tempo\, Baron August de Becker Remyplein 52\, 3010 Kessel-Lo
URL:https://voltbelgie.org/leuven/agenda/meet-greet-na-de-zomerpauze
END:VEVENT
END:VCALENDAR
