BEGIN:VCALENDAR
VERSION:2.0
PRODID:-//Volt Europa//Events//EN
CALSCALE:GREGORIAN
METHOD:PUBLISH
BEGIN:VEVENT
UID:online-ga-volt-belgium-1767697200@voltbelgium.org
DTSTAMP:20260423T180559Z
DTSTART;TZID=Europe/Amsterdam:20260106T120000
DTEND;TZID=Europe/Amsterdam:20260106T133000
SUMMARY:Nieuwe datum 6 januari: Algemene Vergadering van Volt België (onli
 ne)
DESCRIPTION:De Algemene Vergadering zal online plaatsvinden via Google Meet
  en het stemmen gebeurt via Tusker. De links voor deelname en stemming zijn
  al doorgestuurd. Er vind je ook bijkomend informatie.  De agenda bestaat u
 itsluitend uit financiële punten: de  werkelijke rekeningen van 2024 \, ge
 volgd door een stemming om het bestuur kwijting te verlenen voor het boekja
 ar 2024\, een vooruitblik op de  prognose voor 2025 \, en  het budget voor 
 2026 \, dat ter goedkeuring voorgelegd wordt.
LOCATION:online
URL:https://voltbelgie.org/leuven/agenda/online-ga-volt-belgium
END:VEVENT
END:VCALENDAR
