BEGIN:VCALENDAR
VERSION:2.0
PRODID:-//Volt Europa//Events//EN
CALSCALE:GREGORIAN
METHOD:PUBLISH
BEGIN:VEVENT
UID:ontmoet-onze-city-leads-1734462000@voltbelgium.org
DTSTAMP:20260425T173109Z
DTSTART;TZID=Europe/Amsterdam:20241217T200000
DTEND;TZID=Europe/Amsterdam:20241217T220000
SUMMARY:Ontmoet onze City Leads
DESCRIPTION:Ulrike en Niek zijn woensdagavond verkozen als city co-leads vo
 or Leuven/vlaams Brabant.  Zij willen jullie graag uitnodigen om op een leu
 ke manier kennis te maken. Waar: Kerstmarkt Leuven\, Ladeuzeplein Wanneer: 
 Dinsdag 17 december 20.00 uur Trek gerust een pull van volt of iets paars a
 an. 💜 Hopelijk zien wij jullie dinsdag!
LOCATION:Kerstmarkt Leuven\, Ladeuzeplein
URL:https://voltbelgie.org/leuven/agenda/ontmoet-onze-city-leads
END:VEVENT
END:VCALENDAR
