BEGIN:VCALENDAR
VERSION:2.0
PRODID:-//Volt Europa//Events//EN
CALSCALE:GREGORIAN
METHOD:PUBLISH
BEGIN:VEVENT
UID:vergadering-1-28-25-1738089000@voltbelgium.org
DTSTAMP:20260423T180624Z
DTSTART;TZID=Europe/Amsterdam:20250128T193000
DTEND;TZID=Europe/Amsterdam:20250128T220000
SUMMARY:Vergadering
DESCRIPTION:De komende maanden gaan onze vergaderingen door op de dinsdag n
 a de gemeenteraadsvergadering. En dat is geen toeval! We volgen deze vergad
 eringen namelijk nauw op en bespreken de meest interessante gebeurtenissen.
   ( Mocht je zelf een buurt\, wijk of belangengroep- vergadering bijwonen e
 n hierover willen vertellen? Geef het van te voren aan dan kunnen wij ook h
 ierover spreken.) Wil je graag weten hoe een Volt vergadering werkt voordat
  je in persoon wil deelnemen? Komende vergadering\, 28 januari\, 
LOCATION:Cafe Tempo - Baron August de Becker Remyplein 52 Leuven
URL:https://voltbelgie.org/leuven/agenda/vergadering-1-28-25
END:VEVENT
END:VCALENDAR
