BEGIN:VCALENDAR
VERSION:2.0
PRODID:-//Volt Europa//Events//EN
CALSCALE:GREGORIAN
METHOD:PUBLISH
BEGIN:VEVENT
UID:vergadering-2-25-25-1740508200@voltbelgium.org
DTSTAMP:20260425T040914Z
DTSTART;TZID=Europe/Amsterdam:20250225T193000
DTEND;TZID=Europe/Amsterdam:20250225T220000
SUMMARY:Vergadering / Meet and greet
DESCRIPTION:Aankomende dinsdag: 25/02/2025 nodigt Volt je uit voor een meet
  and greet in Cafe Tempo. We bespreken de meest interessante onderwerpen va
 n de gemeenteraadsverkiezing\, maken plannen voor de komende tijd en beantw
 oorden vragen.  Dus ben jij een doorgewinterde Volter op zoek naar zonnig g
 ezelschap? Of een nieuwsgierige\, bezorgde burger? Iedereen is welkom in: C
 afe Tempo\, Baron August de Becker Remyplein 52\, Kessel-Lo.  25/02/2025. A
 anvang:19:30.
LOCATION:Cafe Tempo - Baron August de Becker Remyplein 52 Leuven
URL:https://voltbelgie.org/leuven/agenda/vergadering-2-25-25
END:VEVENT
END:VCALENDAR
