BEGIN:VCALENDAR
VERSION:2.0
PRODID:-//Volt Europa//Events//EN
CALSCALE:GREGORIAN
METHOD:PUBLISH
BEGIN:VEVENT
UID:verkiezingsdebat-kiezen-op-elkaar-1728064800@voltbelgium.org
DTSTAMP:20260422T104950Z
DTSTART;TZID=Europe/Amsterdam:20241004T200000
DTEND;TZID=Europe/Amsterdam:20241004T230000
SUMMARY:Verkiezingsdebat: "Kiezen op elkaar"
DESCRIPTION:Vrijdag 04-10 gaat onze kandidaat voor de gemeenteraad: Niek Ve
 rheij in debat met kandidaten van Groen\, Vooruit\, CD&V en PVDA. Komen jul
 lie luisteren?
LOCATION:Het Groot Ongelijk - Diestsesteenweg 97\, Kessel-Lo
URL:https://voltbelgie.org/leuven/agenda/verkiezingsdebat-kiezen-op-elkaar
END:VEVENT
END:VCALENDAR
