BEGIN:VCALENDAR
VERSION:2.0
PRODID:-//Volt Europa//Events//EN
CALSCALE:GREGORIAN
METHOD:PUBLISH
BEGIN:VEVENT
UID:volt-local-assembly-wij-moeten-kiezen-1767810600@voltbelgium.org
DTSTAMP:20260423T085712Z
DTSTART;TZID=Europe/Amsterdam:20260107T193000
DTEND;TZID=Europe/Amsterdam:20260107T220000
SUMMARY:Volt Local Assembly - wij moeten kiezen!
DESCRIPTION:Op 7 januari 2026 vindt er een lokale ledenvergadering van Volt
  Leuven plaats.  Deze bijeenkomst wordt georganiseerd omdat het mandaat van
  de huidige City Leads afloopt en er een nieuwe City Lead moet worden verko
 zen. Alle leden uit Vlaams Brabant ontvangen verdere informatie per e-mail.
LOCATION:Cafe Tempo\, Baron August de Becker Remyplein 52\, 3010 Kessel-Lo
URL:https://voltbelgie.org/leuven/agenda/volt-local-assembly-wij-moeten-kie
 zen
END:VEVENT
END:VCALENDAR
