BEGIN:VCALENDAR
VERSION:2.0
PRODID:-//Volt Europa//Events//EN
CALSCALE:GREGORIAN
METHOD:PUBLISH
BEGIN:VEVENT
UID:volt-quiznight-in-leuven-1776967200@voltbelgium.org
DTSTAMP:20260422T041718Z
DTSTART;TZID=Europe/Amsterdam:20260423T200000
DTEND;TZID=Europe/Amsterdam:20260423T224500
SUMMARY:Volt Quiznight in Leuven
DESCRIPTION:Heb jij zin in een gezellige avond vol kennis\, plezier en Euro
 pese vibes? Dan nodigen we je van harte uit voor de  Volt Quiznight  in Leu
 ven! Op  donderdag 23 april 2026  organiseert Volt een interactieve quizavo
 nd waar politiek\, actualiteit\, Europa\, cultuur en fun samenkomen. Of je 
 nu een doorgewinterde quizzer bent of gewoon zin hebt in een leuke avond me
 t vrienden — iedereen is welkom.  Praktische informatie Datum:  Donderdag
  23 april 2026 Locatie:  Café Sport\, Martelarenplein 13\, 3000 Leuven
LOCATION:Leuven
URL:https://voltbelgie.org/leuven/agenda/volt-quiznight-in-leuven
END:VEVENT
END:VCALENDAR
