BEGIN:VCALENDAR
VERSION:2.0
PRODID:-//Volt Europa//Events//EN
CALSCALE:GREGORIAN
METHOD:PUBLISH
BEGIN:VEVENT
UID:voorstelling-jaarkalender-1736967600@voltbelgium.org
DTSTAMP:20260423T105303Z
DTSTART;TZID=Europe/Amsterdam:20250115T200000
DTEND;TZID=Europe/Amsterdam:20250115T220000
SUMMARY:Vergadering en voorstelling jaarkalender
DESCRIPTION:Are you a die-hard Volter? Or just curious about how Volt Leuve
 n works? Then come to our meeting on Wednesday 15/01 in cafe Tempo in Kesse
 l-Lo (Leuven). We will make plans for the coming year. It's the first meeti
 ng of 2025\, so count on best wishes\, good company\, drinks and snacks. Ev
 eryone is welcome.
LOCATION:Cafe Tempo - Baron August de Becker Remyplein 52 Leuven
URL:https://voltbelgium.org/leuven/events/voorstelling-jaarkalender
END:VEVENT
END:VCALENDAR
