BEGIN:VCALENDAR
VERSION:2.0
PRODID:-//Volt Europa//Events//EN
CALSCALE:GREGORIAN
METHOD:PUBLISH
BEGIN:VEVENT
UID:wat-wil-volt-1739386800@voltbelgium.org
DTSTAMP:20260425T114224Z
DTSTART;TZID=Europe/Amsterdam:20250212T200000
DTEND;TZID=Europe/Amsterdam:20250212T220000
SUMMARY:Discussie-avond: Wat wil Volt?
DESCRIPTION:Woensdag 12 februari 2025 blikken we samen met de kandidaten te
 rug op de verkiezingen van vorig jaar en kijken we vooruit naar de toekomst
 . Wat willen we bereiken met Volt? Waar gaan wij ons de komende maanden op 
 richten? En bovenal: wat wil jij?  Allen welkom in cafe Tempo (Leffe Zaal) 
 op 12 februari vanaf 20:00. We maken er een inspirerende avond van!
LOCATION:Cafe Tempo - Baron August de Becker Remyplein 52 Leuven
URL:https://voltbelgie.org/leuven/agenda/wat-wil-volt
END:VEVENT
END:VCALENDAR
