BEGIN:VCALENDAR
VERSION:2.0
PRODID:-//Volt Europa//Events//EN
CALSCALE:GREGORIAN
METHOD:PUBLISH
BEGIN:VEVENT
UID:apero-debat-het-rapport-over-de-rechtsstaat-met-sophie-in-t-veld-175691
 7000@voltbelgium.org
DTSTAMP:20260423T110034Z
DTSTART;TZID=Europe/Amsterdam:20250903T183000
DTEND;TZID=Europe/Amsterdam:20250903T210000
SUMMARY:Apéro-debat: het rapport over de rechtsstaat met Sophie in ’t Ve
 ld
DESCRIPTION:🇪🇺⚖️🇧🇪 Wat onthult het EU-rechtsstaatrapport ov
 er België…  dit evenement zal vooral in het Engels verlopen\, maar je be
 nt natuurlijk meer dan welkom om Frans of Nederlands te gebruiken wanneer j
 e het woord neemt Ons volgende Apéro-debat verkent de rechtsstaat in Europ
 a\, met België als casestudy. Terwijl zorgen over Polen of Hongarije vaak 
 de krantenkoppen halen\, komen de Belgische problemen zelden aan bod. Het r
 echtsstaatrapport van de Commissie (24 juli 2025) wijst op het negeren van 
 rechterlijk
LOCATION:Volt Hub\, Galerie du Cinquantenaire\, Tervurenlaan 32-36\, 1040 E
 tterbeek
URL:https://voltbelgie.org/tervuren/agenda/apero-debat-het-rapport-over-de-
 rechtsstaat-met-sophie-in-t-veld
END:VEVENT
END:VCALENDAR
