BEGIN:VCALENDAR
VERSION:2.0
PRODID:-//Volt Europa//Events//EN
CALSCALE:GREGORIAN
METHOD:PUBLISH
BEGIN:VEVENT
UID:discussieavond-wat-betekent-het-een-liberale-partij-te-zijn-1759510800@
 voltbelgium.org
DTSTAMP:20260423T105935Z
DTSTART;TZID=Europe/Amsterdam:20251003T190000
DTEND;TZID=Europe/Amsterdam:20251003T220000
SUMMARY:Discussieavond: wat betekent het een liberale partij te zijn?
DESCRIPTION:Waar Ô Gand\, Griendijk 17\, 9000 Gent Uur 19u-22u\; je kan te
 r plekke  eten bestellen Toegang Gratis:  iedereen is welkom We bespreken i
 nformeel wat het betekent een (sociaal) liberale politieke partij zoals Vol
 t te zijn. Volt voorziet een korte introductie die de verschillende hedenda
 agse strekking toelicht en houdt een aantal stellingen achter de hand om he
 t debat aan te vuren.  Iedereen krijgt de kans zijn mening en ideeën voor 
 te leggen\, maar gewoon meeluisteren kan ook . Praktisch Het is geen
LOCATION:Ô Gand\, Griendijk 17\, 9000 Gent
URL:https://voltbelgie.org/oost-vlaanderen/agenda/discussieavond-wat-beteke
 nt-het-een-liberale-partij-te-zijn
END:VEVENT
END:VCALENDAR
