BEGIN:VCALENDAR
VERSION:2.0
PRODID:-//Volt Europa//Events//EN
CALSCALE:GREGORIAN
METHOD:PUBLISH
BEGIN:VEVENT
UID:eneco-clean-beach-cup-1774180800@voltbelgium.org
DTSTAMP:20260425T004652Z
DTSTART;TZID=Europe/Amsterdam:20260322T130000
DTEND;TZID=Europe/Amsterdam:20260322T170000
SUMMARY:Eneco Clean Beach Cup
DESCRIPTION:Na het succes van onze jaarlijkse Gentse Gruute Kuis\, slaat Vo
 lt dit jaar de handen ineen met de  Eneco Clean Beach Cup . Samen met honde
 rden andere vrijwilligers maken we het strand in één namiddag weer blinke
 nd schoon. Doe je met ons mee? Praktische informatie: Materiaal:  Volt rege
 lt een opruimpakket (grijper\, vuilniszak of emmer). Handschoenen:  Breng b
 ij voorkeur je eigen herbruikbare werkhandschoenen mee. Heb je die niet? Da
 n voorzien wij bio-wegwerphandschoenen. Veiligheid:  Draag tijdens
LOCATION:Surfers Paradise - Zeedijk-Het Zoute\, thv\, Appelzakstraat\, 8300
  Knokke-Heist
URL:https://voltbelgie.org/west-vlaanderen/agenda/eneco-clean-beach-cup
END:VEVENT
END:VCALENDAR
