BEGIN:VCALENDAR
VERSION:2.0
PRODID:-//Volt Europa//Events//EN
CALSCALE:GREGORIAN
METHOD:PUBLISH
BEGIN:VEVENT
UID:europadag-gent-zeeland-2025-1746810000@voltbelgium.org
DTSTAMP:20260423T105746Z
DTSTART;TZID=Europe/Amsterdam:20250509T190000
DTEND;TZID=Europe/Amsterdam:20250509T220000
SUMMARY:Europadag: op bezoek in Zeeland
DESCRIPTION:9 mei is Europadag – dé internationale feestdag bij uitstek 
 voor een pan-Europese beweging als de onze. Wat past er beter bij deze dag 
 dan een bezoek aan onze noorderburen? Vanuit Gent trekken we samen naar Mid
 delburg\, waar onze Nederlandse collega's ons verwelkomen op hun Europaborr
 el. Wil je ook graag eens kennismaken met onze Nederlandse collega's? Laat 
 het ons weten op  oost-vlaanderen@voltbelgie.org .
LOCATION:Café Cliché\, Middelburg\, Zeeland
URL:https://voltbelgie.org/oost-vlaanderen/agenda/europadag-gent-zeeland-20
 25
END:VEVENT
END:VCALENDAR
