BEGIN:VCALENDAR
VERSION:2.0
PRODID:-//Volt Europa//Events//EN
CALSCALE:GREGORIAN
METHOD:PUBLISH
BEGIN:VEVENT
UID:europamars-2026-1778331600@voltbelgium.org
DTSTAMP:20260422T021846Z
DTSTART;TZID=Europe/Amsterdam:20260509T150000
DTEND;TZID=Europe/Amsterdam:20260509T170000
SUMMARY:Europamars
DESCRIPTION:Graag inschrijven\, zo weten wij hoeveel personen we kunnen ver
 wachten. We houden van Europa en dat vieren we op  Europadag  met een mars 
 door Gent!  We geloven in het enorme potentieel van een verenigd Europa\, m
 aar zien nog vele verbeterpunten\, zoals Een écht democratisch systeem met
  een rechtstreeks verkozen EU-president en zonder misbruik van veto's (al e
 ens gehoord van Hongarije's Orbán?) Een échte eengemaakte Europese markt 
 zonder interne handelsbarrières\, die vandaag het equivalent van een 
LOCATION:Rabotpark => Kouter\, Gent
URL:https://voltbelgie.org/brussel/agenda/europamars-2026
END:VEVENT
END:VCALENDAR
