BEGIN:VCALENDAR
VERSION:2.0
PRODID:-//Volt Europa//Events//EN
CALSCALE:GREGORIAN
METHOD:PUBLISH
BEGIN:VEVENT
UID:lezing-zwerfvuil-statiegeld-1743012000@voltbelgium.org
DTSTAMP:20260423T105430Z
DTSTART;TZID=Europe/Amsterdam:20250326T190000
DTEND;TZID=Europe/Amsterdam:20250326T210000
SUMMARY:Gratis lezing: zwerfvuil & statiegeld [NL]
DESCRIPTION:Waar Oud vredegerecht\, Ledebergplein 30\, 9050 Ledeberg Uur 19
 -21u \, deuren open vanaf 18u30 Toegang Gratis Lees het verslag van deze le
 zing  hier . We brengen 4 experten samen om elk  15 minuten  hun expertise 
 te delen. Tussen twee experten heen kan het publiek vragen stellen. - De   
 Statiegeldalliantie   is dé expert in statiegeld. Ze brengen een stand van
  zaken over statiegeld (voorstellen) in België\, de voor- en nadelen ervan
 \, alsook een vergelijking tussen verschillende statiegeld systemen e
LOCATION:Oud vredegerecht\, Ledebergplein 30\, 9050 Ledeberg
URL:https://voltbelgium.org/events/lezing-zwerfvuil-statiegeld
END:VEVENT
END:VCALENDAR
