BEGIN:VCALENDAR
VERSION:2.0
PRODID:-//Volt Europa//Events//EN
CALSCALE:GREGORIAN
METHOD:PUBLISH
BEGIN:VEVENT
UID:lokale-vergadering-oost-west-vlaanderen-1761987600@voltbelgium.org
DTSTAMP:20260423T105930Z
DTSTART;TZID=Europe/Amsterdam:20251101T100000
DTEND;TZID=Europe/Amsterdam:20251101T160000
SUMMARY:Mini congres Oost- & West-Vlaanderen
DESCRIPTION:🍱 Lunchen met onze voormalige Europarlementariër (20 jaar!)
  en lijsttrekker  Sophie in ‘t Veld  of met ons Volt gemeenteraadslid in 
 Tervuren  Tracey D’Afters ? Verbinden met middenveldorganisaties en ander
 e Volters? Boeiende lezingen en debatten bijwonen? Het kan allemaal op deze
  dag voor onze leden en sympathisanten. 🇮🇹🇪🇺 We zijn trots als 
 gastspreker te verwelkomen  Alberto Alemanno \, Jean Monnet Professor aan d
 e HEC Paris en gezaghebbende stem in het debat over Europa. Professor Alema
 nno zal 
LOCATION:Bedrijvencentrum De Punt\, Kerkstraat 108\, 9050 Gentbrugge
URL:https://voltbelgie.org/agenda/lokale-vergadering-oost-west-vlaanderen
END:VEVENT
END:VCALENDAR
