BEGIN:VCALENDAR
VERSION:2.0
PRODID:-//Volt Europa//Events//EN
CALSCALE:GREGORIAN
METHOD:PUBLISH
BEGIN:VEVENT
UID:meet-greet-gent-2025-05-14-1747240200@voltbelgium.org
DTSTAMP:20260423T105631Z
DTSTART;TZID=Europe/Amsterdam:20250514T183000
DTEND;TZID=Europe/Amsterdam:20250514T213000
SUMMARY:In gesprek met Volt MEP Anna Strolenberg
DESCRIPTION:De originele Meet & Greet maakt plaats voor een ontmoeting met 
 een van onze vijf Europarlementariërs – de Nederlandse Anna – in de Vo
 lt Hub in Brussel (makkelijk bereikbaar met trein + metro). Ze zal vertelle
 n over haar werk uit het comité Vrouwenrechten en Gendergelijkheid waarna 
 er tijd voorzien is voor vragen en discussie. Rij je graag mee? Geef ons ee
 n seintje op  oost-vlaanderen@voltbelgie.org ! Geraak je niet op tijd ter p
 lekke: volg dan gerust online mee. Agenda 18.30  Deuren open 19.00  
LOCATION:Volt Hub\, Galerie du Cinquantenaire\, Av. de Tervuren 32-36\, 104
 0 Etterbeek
URL:https://voltbelgie.org/oost-vlaanderen/agenda/meet-greet-gent-2025-05-1
 4
END:VEVENT
END:VCALENDAR
