BEGIN:VCALENDAR
VERSION:2.0
PRODID:-//Volt Europa//Events//EN
CALSCALE:GREGORIAN
METHOD:PUBLISH
BEGIN:VEVENT
UID:meet-greet-gent-2025-07-08-1751994000@voltbelgium.org
DTSTAMP:20260423T105631Z
DTSTART;TZID=Europe/Amsterdam:20250708T190000
DTEND;TZID=Europe/Amsterdam:20250708T220000
SUMMARY:Meet & Greet Picknick Ghent
DESCRIPTION:Ideal first introduction Do you want to make a difference local
 ly through Volt and contribute ideas about policy? Or would you first like 
 to learn more about Volt Europa or Volt Belgium? This is your chance to get
  to know us! Come meet the members of Volt East- and West-Flanders! Join us
  for a beer or a lemonade and discover our vision for the future.
LOCATION:Citadelpark\, 9000 Gent
URL:https://voltbelgium.org/events/meet-greet-gent-2025-07-08
END:VEVENT
END:VCALENDAR
