BEGIN:VCALENDAR
VERSION:2.0
PRODID:-//Volt Europa//Events//EN
CALSCALE:GREGORIAN
METHOD:PUBLISH
BEGIN:VEVENT
UID:nieuwjaarsreceptie-2025-1735916400@voltbelgium.org
DTSTAMP:20260423T181202Z
DTSTART;TZID=Europe/Amsterdam:20250103T160000
DTEND;TZID=Europe/Amsterdam:20250104T020000
SUMMARY:Nieuwjaarsreceptie 2025
DESCRIPTION:2024 was een bewogen en druk jaar voor ons allemaal. We hebben 
 deelgenomen aan vijf verkiezingen met tientallen lijsten en honderden kandi
 daten. Bijna een heel jaar hebben we handtekeningen verzameld en campagne g
 evoerd. We hebben de kou en de regen getrotseerd\, we hebben met vele mense
 n gesproken en een deel overtuigd om voor ons te tekenen of te stemmen. Om 
 het einde van dit prachtige verkiezingsjaar te vieren\, organiseren we een 
 nieuwjaarsreceptie in Gent. Hierbij nodigen we jullie graag uit 
LOCATION:Afkikker\, Sint-Kwintensberg 52\, 9000 Gent
URL:https://voltbelgie.org/agenda/nieuwjaarsreceptie-2025
END:VEVENT
END:VCALENDAR
