BEGIN:VCALENDAR
VERSION:2.0
PRODID:-//Volt Europa//Events//EN
CALSCALE:GREGORIAN
METHOD:PUBLISH
BEGIN:VEVENT
UID:politiek-babbel-gent-2025-08-22-1755882000@voltbelgium.org
DTSTAMP:20260423T105802Z
DTSTART;TZID=Europe/Amsterdam:20250822T190000
DTEND;TZID=Europe/Amsterdam:20250822T220000
SUMMARY:Politieke Babbel: Gent Gaat Ontharden
DESCRIPTION:Iedereen is welkom en het evenement is kosteloos. 🥵 Hitte in
  de stad? 💧 Last van wateroverlast? Je bent niet alleen! Gent is te verh
 ard en dat voelen we allemaal. Tijd voor verandering! Volt Gent nodigt je u
 it voor de politieke babbel: Gent Gaat Ontharden 🌱 We gaan in gesprek ov
 er hoe we onze stad slimmer\, groener en koeler kunnen maken. Na een korte 
 presentatie duiken we meteen in een open discussie met prikkelende stelling
 en. Geen saaie monoloog\, wel een echt gesprek waar jouw mening telt! Kom
LOCATION:Ô Gand\, Griendijk 17\, 9000 Gent
URL:https://voltbelgie.org/oost-vlaanderen/agenda/politiek-babbel-gent-2025
 -08-22
END:VEVENT
END:VCALENDAR
