BEGIN:VCALENDAR
VERSION:2.0
PRODID:-//Volt Europa//Events//EN
CALSCALE:GREGORIAN
METHOD:PUBLISH
BEGIN:VEVENT
UID:politiek-cafe-mobiliteit-gent-1-1-1741802400@voltbelgium.org
DTSTAMP:20260423T105935Z
DTSTART;TZID=Europe/Amsterdam:20250312T190000
DTEND;TZID=Europe/Amsterdam:20250312T220000
SUMMARY:Meet & Greet Gent
DESCRIPTION:Waar Eltòn\, Koningin Maria Hendrikaplein 36\, 9000 Gent Uur 1
 9-22u Toegang Gratis Heb je ook schoon genoeg van het wereldwijde theater d
 at zich moment afspeelt? Moet Europa zich sterk maken en beter unificeren? 
 Dan is Volt de plaats voor jou! Wil je meer weten over dé partij voor Euro
 pa — Volt Europa—\, of onze nationale tak Volt België? Dit is jouw kan
 s om kennis te maken! Wil je lokaal een verschil maken met Volt en mee nade
 nken over het beleid? Kom gezellig kennismaken met de leden van Volt Oos
LOCATION:Eltòn\, Kon. Maria Hendrikaplein 36\, 9000 Gent
URL:https://voltbelgie.org/oost-vlaanderen/agenda/politiek-cafe-mobiliteit-
 gent-1-1
END:VEVENT
END:VCALENDAR
