BEGIN:VCALENDAR
VERSION:2.0
PRODID:-//Volt Europa//Events//EN
CALSCALE:GREGORIAN
METHOD:PUBLISH
BEGIN:VEVENT
UID:politieke-babbel-gent-2025-06-18-1750266000@voltbelgium.org
DTSTAMP:20260423T105907Z
DTSTART;TZID=Europe/Amsterdam:20250618T190000
DTEND;TZID=Europe/Amsterdam:20250618T220000
SUMMARY:Politieke Babbel “Pensioenen” [NL]
DESCRIPTION:We bespreken informeel\, maar met context het thema “pensioen
 en”. Iedereen heeft de kans zijn mening en ideeën te beargumenteren also
 ok nieuwe punten aan te brengen. Volt voorziet een aantal stellingen om het
  debat aan te vuren. Iedereen is welkom en het evenement is kosteloos.
LOCATION:Café Monopole\, Kon. Elisabethlaan 65\, 9000 Gent
URL:https://voltbelgium.org/events/politieke-babbel-gent-2025-06-18
END:VEVENT
END:VCALENDAR
