BEGIN:VCALENDAR
VERSION:2.0
PRODID:-//Volt Europa//Events//EN
CALSCALE:GREGORIAN
METHOD:PUBLISH
BEGIN:VEVENT
UID:vier-vrouwendag-met-volt-1741424400@voltbelgium.org
DTSTAMP:20260423T105435Z
DTSTART;TZID=Europe/Amsterdam:20250308T100000
DTEND;TZID=Europe/Amsterdam:20250308T100000
SUMMARY:Vier Vrouwendag met Volt
DESCRIPTION:Waar Caffè Rosario\, Emile Braunplein 11\, 9000 Gent Uur 10u-1
 2u Toegang Gratis 8 maart is het internationale vrouwendag en dat vieren we
 ! De vrouwen van Volt genieten vanaf 10u van een koffie\, thee en licht ont
 bijt in Caffè Rosario. Draag je vrouwenrechten hoog in het vaandel? Wil je
  kennismaken met Volt? Dit is een ideaal laagdrempelig introductiemoment.
LOCATION:Caffè Rosario\, Emile Braunplein 11\, 9000 Gent
URL:https://voltbelgie.org/oost-vlaanderen/agenda/vier-vrouwendag-met-volt
END:VEVENT
END:VCALENDAR
