BEGIN:VCALENDAR
VERSION:2.0
PRODID:-//Volt Europa//Events//EN
CALSCALE:GREGORIAN
METHOD:PUBLISH
BEGIN:VEVENT
UID:vrouwen-in-de-politiek-1733337000@voltbelgium.org
DTSTAMP:20260423T105746Z
DTSTART;TZID=Europe/Amsterdam:20241204T193000
DTEND;TZID=Europe/Amsterdam:20241204T213000
SUMMARY:Vrouwen in de politiek: panelgesprek
DESCRIPTION:Dit is een gratis evenement. Om 19u30 openen de deuren\, het ev
 enement begint om 20u. Download de slides van het evenement  hier . Volt\, 
 een progressief liberale pan-Europese politieke partij\, hecht veel belang 
 aan diversiteit en streeft naar een evenwichtige verdeling van functies tus
 sen vrouwen en mannen. Partijen ondervinden steeds meer problemen bij het w
 erven van vrouwelijke kandidaten. De maatregelen die tot nu toe zijn genome
 n om deze balans te waarborgen\, blijken onvoldoende effectief. Da
LOCATION:Zebrastraat 32\, 9000 Gent
URL:https://voltbelgie.org/oost-vlaanderen/agenda/vrouwen-in-de-politiek
END:VEVENT
END:VCALENDAR
