BEGIN:VCALENDAR
VERSION:2.0
PRODID:-//Volt Europa//Events//EN
CALSCALE:GREGORIAN
METHOD:PUBLISH
BEGIN:VEVENT
UID:concert-voor-oekraine-1740078000@voltbelgium.org
DTSTAMP:20260425T212821Z
DTSTART;TZID=Europe/Amsterdam:20250220T200000
DTEND;TZID=Europe/Amsterdam:20250220T223000
SUMMARY:Concert voor OekraÃ¯ne
DESCRIPTION:Laten we onze solidariteit met OekraÃ¯ne tonen! Een liefdadighe
 idsconcert wordt gehouden in de prachtige kerk op de Zavel op donderdag 20 
 februari om 20u. Alle opbrengsten gaan naar een mobiel ziekenhuis in OekraÃ
 ¯ne. Informatie van BRIMA The Brussels International Academy of Music (BR.I
 .M.A.) with the support of the Embassy of Ukraine in the Kingdom of Belgium
 \, Mission of Ukraine to the European Union invite you to a charity concert
  dedicated to the commemoration of the victims of the war in Ukra
LOCATION:Rue des Sablons\, 1000 Brussel
URL:https://voltbelgie.org/agenda/concert-voor-oekraine
END:VEVENT
END:VCALENDAR
