BEGIN:VCALENDAR
VERSION:2.0
PRODID:-//Volt Europa//Events//EN
CALSCALE:GREGORIAN
METHOD:PUBLISH
BEGIN:VEVENT
UID:gentse-gruute-kuis-1743238800@voltbelgium.org
DTSTAMP:20260423T135204Z
DTSTART;TZID=Europe/Amsterdam:20250329T100000
DTEND;TZID=Europe/Amsterdam:20250329T180000
SUMMARY:Gentse Gruute Kuis: Opruimactie
DESCRIPTION:Join us during the annual Ghent street cleanup (Gentse Gruute K
 uis). With the help of IVAGO and Mooimakers\, we're tackling street by stre
 et for a cleaner Ghent. We'll be cleaning all day\, but you can join us whe
 never it suits you. Want to join in? Sign up! Do you know of any streets or
  places that could use a cleanup? Let us know.
LOCATION:9000 Ghent\, België
URL:https://voltbelgium.org/events/gentse-gruute-kuis
END:VEVENT
END:VCALENDAR
